BEGIN:VCALENDAR
VERSION:2.0
PRODID:-//New York Book Forum - ECPv6.15.15//NONSGML v1.0//EN
CALSCALE:GREGORIAN
METHOD:PUBLISH
X-ORIGINAL-URL:https://newyorkbookforum.org
X-WR-CALDESC:Events for New York Book Forum
REFRESH-INTERVAL;VALUE=DURATION:PT1H
X-Robots-Tag:noindex
X-PUBLISHED-TTL:PT1H
BEGIN:VTIMEZONE
TZID:America/New_York
BEGIN:DAYLIGHT
TZOFFSETFROM:-0500
TZOFFSETTO:-0400
TZNAME:EDT
DTSTART:20230312T070000
END:DAYLIGHT
BEGIN:STANDARD
TZOFFSETFROM:-0400
TZOFFSETTO:-0500
TZNAME:EST
DTSTART:20231105T060000
END:STANDARD
BEGIN:DAYLIGHT
TZOFFSETFROM:-0500
TZOFFSETTO:-0400
TZNAME:EDT
DTSTART:20240310T070000
END:DAYLIGHT
BEGIN:STANDARD
TZOFFSETFROM:-0400
TZOFFSETTO:-0500
TZNAME:EST
DTSTART:20241103T060000
END:STANDARD
BEGIN:DAYLIGHT
TZOFFSETFROM:-0500
TZOFFSETTO:-0400
TZNAME:EDT
DTSTART:20250309T070000
END:DAYLIGHT
BEGIN:STANDARD
TZOFFSETFROM:-0400
TZOFFSETTO:-0500
TZNAME:EST
DTSTART:20251102T060000
END:STANDARD
END:VTIMEZONE
BEGIN:VEVENT
DTSTART;TZID=America/New_York:20241211T180000
DTEND;TZID=America/New_York:20241211T200000
DTSTAMP:20260422T023019
CREATED:20240611T213028Z
LAST-MODIFIED:20241212T110819Z
UID:1406-1733940000-1733947200@newyorkbookforum.org
SUMMARY:2024 NYBF Holiday Party
DESCRIPTION:Please join NYBF members\, friends\, and colleagues at our Annual Holiday Party!\nFREE for current NYBF members and $25 for non-members. Admission includes hot/cold hors d’oeuvres and wine\, beer\, and well drinks from the bar. \nOnce again\, NYBF will be collecting children’s books for Care for the Homeless\, which provides quality healthcare\, human services\, and shelter to families and individuals experiencing homelessness in NYC. As of this writing\, there are over 45\,000 children in the NYC shelter system. At a time that is supposed to be filled with joy and festive gatherings\, this is a staggering number of children who are facing the holidays with uncertainty. Over this holiday season\, we are relying on your generosity to join us in making the holidays a little brighter for children who will be spending this season in shelters\, and not in the comfort of home. Please consider bringing a children’s book (or two) with you and help to open the world a little for children who are spending this season in shelters. Thank you!!
URL:https://newyorkbookforum.org/event/2024-nybf-holiday-party/
LOCATION:Prime Catch\, 140 West 46th Street\, New York\, NY\, 10012\, United States
CATEGORIES:Special Event
ATTACH;FMTTYPE=image/png:https://newyorkbookforum.org/wp-content/uploads/2024/04/special_event_banner.png
ORGANIZER;CN="New York Book Forum":MAILTO:info@newyorkbookforum.org
END:VEVENT
END:VCALENDAR