BEGIN:VCALENDAR
VERSION:2.0
PRODID:-//New York Book Forum - ECPv6.15.15//NONSGML v1.0//EN
CALSCALE:GREGORIAN
METHOD:PUBLISH
X-ORIGINAL-URL:https://newyorkbookforum.org
X-WR-CALDESC:Events for New York Book Forum
REFRESH-INTERVAL;VALUE=DURATION:PT1H
X-Robots-Tag:noindex
X-PUBLISHED-TTL:PT1H
BEGIN:VTIMEZONE
TZID:America/New_York
BEGIN:DAYLIGHT
TZOFFSETFROM:-0500
TZOFFSETTO:-0400
TZNAME:EDT
DTSTART:20230312T070000
END:DAYLIGHT
BEGIN:STANDARD
TZOFFSETFROM:-0400
TZOFFSETTO:-0500
TZNAME:EST
DTSTART:20231105T060000
END:STANDARD
BEGIN:DAYLIGHT
TZOFFSETFROM:-0500
TZOFFSETTO:-0400
TZNAME:EDT
DTSTART:20240310T070000
END:DAYLIGHT
BEGIN:STANDARD
TZOFFSETFROM:-0400
TZOFFSETTO:-0500
TZNAME:EST
DTSTART:20241103T060000
END:STANDARD
BEGIN:DAYLIGHT
TZOFFSETFROM:-0500
TZOFFSETTO:-0400
TZNAME:EDT
DTSTART:20250309T070000
END:DAYLIGHT
BEGIN:STANDARD
TZOFFSETFROM:-0400
TZOFFSETTO:-0500
TZNAME:EST
DTSTART:20251102T060000
END:STANDARD
END:VTIMEZONE
BEGIN:VEVENT
DTSTART;TZID=America/New_York:20240717T173000
DTEND;TZID=America/New_York:20240717T200000
DTSTAMP:20260423T004103
CREATED:20240328T190855Z
LAST-MODIFIED:20240910T180858Z
UID:975-1721237400-1721246400@newyorkbookforum.org
SUMMARY:NYBF Bingo Book Bash
DESCRIPTION:  \nNew York Book Forum wants to acknowledge the ongoing support of its members by hosting this special Members-only social event! Light refreshments will be provided followed by a few rounds of Bingo with prizes! \nAdmission is open to and free for active NYBF members\, but space is limited so you must RSVP to attend. If you are unsure of your membership status\, please email info@newyorkbookforum.org. \n\nRSVPs are now closed. We look forward to seeing our members tonight!
URL:https://newyorkbookforum.org/event/bingo-book-bash/
LOCATION:Hachette Book Group\, 1290 6th Avenue\, New York\, NY\, 10104\, United States
CATEGORIES:Special Event
ATTACH;FMTTYPE=image/png:https://newyorkbookforum.org/wp-content/uploads/2024/04/special_event_banner.png
ORGANIZER;CN="New York Book Forum":MAILTO:info@newyorkbookforum.org
END:VEVENT
END:VCALENDAR