BEGIN:VCALENDAR
VERSION:2.0
PRODID:-//New York Book Forum - ECPv6.15.15//NONSGML v1.0//EN
CALSCALE:GREGORIAN
METHOD:PUBLISH
X-ORIGINAL-URL:https://newyorkbookforum.org
X-WR-CALDESC:Events for New York Book Forum
REFRESH-INTERVAL;VALUE=DURATION:PT1H
X-Robots-Tag:noindex
X-PUBLISHED-TTL:PT1H
BEGIN:VTIMEZONE
TZID:America/New_York
BEGIN:DAYLIGHT
TZOFFSETFROM:-0500
TZOFFSETTO:-0400
TZNAME:EDT
DTSTART:20240310T070000
END:DAYLIGHT
BEGIN:STANDARD
TZOFFSETFROM:-0400
TZOFFSETTO:-0500
TZNAME:EST
DTSTART:20241103T060000
END:STANDARD
BEGIN:DAYLIGHT
TZOFFSETFROM:-0500
TZOFFSETTO:-0400
TZNAME:EDT
DTSTART:20250309T070000
END:DAYLIGHT
BEGIN:STANDARD
TZOFFSETFROM:-0400
TZOFFSETTO:-0500
TZNAME:EST
DTSTART:20251102T060000
END:STANDARD
BEGIN:DAYLIGHT
TZOFFSETFROM:-0500
TZOFFSETTO:-0400
TZNAME:EDT
DTSTART:20260308T070000
END:DAYLIGHT
BEGIN:STANDARD
TZOFFSETFROM:-0400
TZOFFSETTO:-0500
TZNAME:EST
DTSTART:20261101T060000
END:STANDARD
END:VTIMEZONE
BEGIN:VEVENT
DTSTART;TZID=America/New_York:20250114T120000
DTEND;TZID=America/New_York:20250114T123000
DTSTAMP:20260421T094007
CREATED:20241204T183219Z
LAST-MODIFIED:20241206T143944Z
UID:1604-1736856000-1736857800@newyorkbookforum.org
SUMMARY:2025 Annual Members Meeting
DESCRIPTION:The New York Book Forum Annual Members Meeting will be held January 14\, 2025 at noon. At this meeting\, the President will present a recap of the 2024 season and we will hold elections for the Board’s Class A Directors. \nA link to the meeting and online ballot will be sent to all members whose membership is current as of 1/14/25. We encourage all members who meet this criteria to attend and vote. While not mandatory\, please RSVP below if you plan on attending so we have a sense of headcount. \nAs always\, if you need to renew your membership\, please visit the Membership page of our website. If you are unsure of your membership status\, or have any other questions\, please email info@newyorkbookforum.org. \n\n\n\n                \n                        \n                            2026 Annual Meeting RSVP\n                             \n                        \n                        Name(Required)\n                            \n                            \n                                                    \n                                                    First\n                                                \n                            \n                            \n                                                    \n                                                    Last\n                                                \n                            \n                        Email(Required)\n                            \n                        PhoneCompany/Organization/Institution
URL:https://newyorkbookforum.org/event/2025-annual-members-meeting/
LOCATION:Google Meet
CATEGORIES:Special Event
ATTACH;FMTTYPE=image/png:https://newyorkbookforum.org/wp-content/uploads/2024/04/special_event_banner.png
ORGANIZER;CN="New York Book Forum":MAILTO:info@newyorkbookforum.org
END:VEVENT
END:VCALENDAR