BEGIN:VCALENDAR
VERSION:2.0
PRODID:-//New York Book Forum - ECPv6.15.15//NONSGML v1.0//EN
CALSCALE:GREGORIAN
METHOD:PUBLISH
X-ORIGINAL-URL:https://newyorkbookforum.org
X-WR-CALDESC:Events for New York Book Forum
REFRESH-INTERVAL;VALUE=DURATION:PT1H
X-Robots-Tag:noindex
X-PUBLISHED-TTL:PT1H
BEGIN:VTIMEZONE
TZID:America/New_York
BEGIN:DAYLIGHT
TZOFFSETFROM:-0500
TZOFFSETTO:-0400
TZNAME:EDT
DTSTART:20240310T070000
END:DAYLIGHT
BEGIN:STANDARD
TZOFFSETFROM:-0400
TZOFFSETTO:-0500
TZNAME:EST
DTSTART:20241103T060000
END:STANDARD
BEGIN:DAYLIGHT
TZOFFSETFROM:-0500
TZOFFSETTO:-0400
TZNAME:EDT
DTSTART:20250309T070000
END:DAYLIGHT
BEGIN:STANDARD
TZOFFSETFROM:-0400
TZOFFSETTO:-0500
TZNAME:EST
DTSTART:20251102T060000
END:STANDARD
BEGIN:DAYLIGHT
TZOFFSETFROM:-0500
TZOFFSETTO:-0400
TZNAME:EDT
DTSTART:20260308T070000
END:DAYLIGHT
BEGIN:STANDARD
TZOFFSETFROM:-0400
TZOFFSETTO:-0500
TZNAME:EST
DTSTART:20261101T060000
END:STANDARD
END:VTIMEZONE
BEGIN:VEVENT
DTSTART;TZID=America/New_York:20251112T173000
DTEND;TZID=America/New_York:20251112T200000
DTSTAMP:20260420T142515
CREATED:20250903T215223Z
LAST-MODIFIED:20251209T192027Z
UID:1874-1762968600-1762977600@newyorkbookforum.org
SUMMARY:From Competition to Career
DESCRIPTION:What role do competitions play in launching and sustaining a writer’s and artist’s career? Join us for From Competition to Career\, a panel discussion exploring how art and writing contests serve as powerful platforms for discovery\, recognition\, and professional growth. Competitions cultivate our creative communities and support emerging voices. They are cornerstones in sustaining a vibrant culture and creating opportunities for stories that might go unheard. \nLearn how competition organizers and participants navigate the world of competitions\, from first submissions to transformative wins\, and how those moments opened doors to publication\, mentorship\, and lasting creative communities. \nWhether you’re an aspiring artist or writer considering your first submission\, an educator fostering literary talent\, or a reader invested in the future of storytelling\, this panel offers insight\, inspiration\, and practical takeaways on why these contests matter\, how they can shape the creators or tomorrow\, and what we can do to continue to support them. \nFeatured Speakers: \n\nChristopher Wisniewski\, Executive Director\, Alliance for Young Artists & Writers\nLaurin Becker Macios\, author of Calling Me Home\, Somewhere to Go\, and I Almost Was Animal\n\nModerated by Irene Chan\, Program Chair\, New York Book Forum \n\nWatch on YouTube! \nListen on Spotify and Apple Podcasts!
URL:https://newyorkbookforum.org/event/competition-career/
LOCATION:Macmillan Publishing\, 120 Broadway\, 25th Floor\, New York\, NY\, 10271\, United States
CATEGORIES:In-person Program
ATTACH;FMTTYPE=image/png:https://newyorkbookforum.org/wp-content/uploads/2024/04/in_person_program_banner.png
END:VEVENT
END:VCALENDAR